BEGIN:VCALENDAR
VERSION:2.0
PRODID:-//Awqaf Africa - ECPv6.6.2//NONSGML v1.0//EN
CALSCALE:GREGORIAN
METHOD:PUBLISH
X-ORIGINAL-URL:https://awqafafrica.org
X-WR-CALDESC:Events for Awqaf Africa
REFRESH-INTERVAL;VALUE=DURATION:PT1H
X-Robots-Tag:noindex
X-PUBLISHED-TTL:PT1H
BEGIN:VTIMEZONE
TZID:Asia/Kuala_Lumpur
BEGIN:STANDARD
TZOFFSETFROM:+0800
TZOFFSETTO:+0800
TZNAME:+08
DTSTART:20240101T000000
END:STANDARD
END:VTIMEZONE
BEGIN:VEVENT
DTSTART;TZID=Asia/Kuala_Lumpur:20241201T073000
DTEND;TZID=Asia/Kuala_Lumpur:20241201T113000
DTSTAMP:20260421T162348
CREATED:20241126T040534Z
LAST-MODIFIED:20241126T040822Z
UID:15682-1733038200-1733052600@awqafafrica.org
SUMMARY:Shah Alam Trees 4 Life Initiative 2024
DESCRIPTION:Majlis Bandaraya Shah Alam (MBSA) and Mapletree\, in collaboration with Awqaf Africa\, proudly present the Shah Alam Trees 4 Life Initiative 2024 🌳🌍. \n  \nThis exciting environmental project aims to enhance urban greenery\, engage communities\, reduce carbon emissions\, and foster cross-cultural collaboration with African expatriates and students in Malaysia. \n  \n📅 Event Details:\nDate: 1st December 2024\nTime: 7:30 AM – 11:30 AM\nLocation: Taman Awam Jalan Sepang Jaya 28/36\, Seksyen 28\, Shah Alam (GPS: 3°00’22.8″N 101°33’31.6″E) \n  \n🌱 Key Objectives: \n\nIncrease Urban Greenery: Contribute to the growth of urban forests in Shah Alam.\nCommunity Engagement: Educate and involve the community in environmental sustainability.\nCarbon Footprint Reduction: Promote a sustainable lifestyle through the Carbon Footprint League.\nCultural Collaboration: Build unity through joint environmental efforts by African expatriates and the local community.\nRecognition: All participants will receive e-certificates acknowledging their contributions.\n\n  \n📢 Don’t miss this opportunity to make a meaningful impact on the environment while fostering cultural exchange. \n  \nCLICK HERE TO REGISTER\n  \n💚 Together\, let’s grow a greener future! 🌿✨ #Tree4Life2024 #AwqafAfrica #GreenShahAlam
URL:https://awqafafrica.org/event/trees-4-life-initiative-2024/
LOCATION:Taman Awam Jalan Sepang Jaya 28/36\, Seksyen 28\, Shah Alam (GPS: 3°00’22.8″N 101°33’31.6″E)\, Taman Awam Jalan Sepang Jaya 28/36\, Seksyen 28\, Shah Alam (GPS: 3°00'22.8"N 101°33'31.6"E)\, Shah Alam\, Selangor\, 40400\, Malaysia
ATTACH;FMTTYPE=image/jpeg:https://awqafafrica.org/wp-content/uploads/2024/11/Sha-Alam-Tree-4-Life-1-scaled.jpg
ORGANIZER;CN="Awqaf Africa":MAILTO:info@awqafafrica.org
END:VEVENT
BEGIN:VEVENT
DTSTART;TZID=Asia/Kuala_Lumpur:20250111T210000
DTEND;TZID=Asia/Kuala_Lumpur:20250111T233000
DTSTAMP:20260421T162348
CREATED:20250106T071304Z
LAST-MODIFIED:20250106T071304Z
UID:15748-1736629200-1736638200@awqafafrica.org
SUMMARY:Strategies for Sustainable Growth and Protection
DESCRIPTION:This session will emphasize practical frameworks\, governance models\, and sustainable strategies to ensure the resilience and long-term impact of Waqf institutions. \n  \nProgram Details: \nPhase Title: Strategies for Sustainability of Waqf \nDate: 11th January 2025 (Saturday) \nTime: 9:00 PM (Malaysia Time) \nPlatform: Google meeting ( https://meet.google.com/zwj-mspw-wcs ) \n  \nCLICK HERE TO REGISTER
URL:https://awqafafrica.org/event/strategies-for-sustainable-growth-and-protection/
CATEGORIES:Webinar
ATTACH;FMTTYPE=image/jpeg:https://awqafafrica.org/wp-content/uploads/2025/01/Strategies-for-Sustainability-of-Waqf-scaled.jpg
ORGANIZER;CN="Awqaf Africa":MAILTO:info@awqafafrica.org
END:VEVENT
END:VCALENDAR